View In:
ArcGIS JavaScript
ArcGIS Online Map Viewer
ArcGIS Earth
Service Description: Monthly 30-year "normal" dataset covering the conterminous U.S., averaged over the climatological period 1981-2010. Contains spatially gridded average annual precipitation at 800m grid cell resolution. Distribution of the point measurements to the spatial grid was accomplished using the PRISM model, developed and applied by Dr. Christopher Daly of the PRISM Climate Group at Oregon State University. This dataset was heavily peer reviewed, and is available free-of-charge on the PRISM website. Displayed in Inches.
Name: WRD/WMB_MeanPrecipBasin
Description: Monthly 30-year "normal" dataset covering the conterminous U.S., averaged over the climatological period 1981-2010. Contains spatially gridded average annual precipitation at 800m grid cell resolution. Distribution of the point measurements to the spatial grid was accomplished using the PRISM model, developed and applied by Dr. Christopher Daly of the PRISM Climate Group at Oregon State University. This dataset was heavily peer reviewed, and is available free-of-charge on the PRISM website. Displayed in Inches.
Single Fused Map Cache: false
Extent:
XMin: -116.17916666666736
YMin: 42.30416666666604
XMax: -103.37083333332384
YMax: 49.187499999999
Spatial Reference: 4269
(4269)
LatestVCSWkid(0)
Initial Extent:
XMin: -116.17916666666736
YMin: 42.30416666666604
XMax: -103.37083333332384
YMax: 49.187499999999
Spatial Reference: 4269
(4269)
LatestVCSWkid(0)
Full Extent:
XMin: -116.17916666666736
YMin: 42.30416666666604
XMax: -103.37083333332384
YMax: 49.187499999999
Spatial Reference: 4269
(4269)
LatestVCSWkid(0)
Pixel Size X: 0.008333333333339956
Pixel Size Y: 0.008333333333332877
Band Count: 1
Pixel Type: F32
RasterFunction Infos: {"rasterFunctionInfos": [{
"name": "None",
"description": "",
"help": ""
}]}
Mensuration Capabilities: Basic
Inspection Capabilities:
Has Histograms: true
Has Colormap: false
Has Multi Dimensions : false
Rendering Rule:
Min Scale: 0
Max Scale: 0
Copyright Text: PRISM Climate Group at Oregon State University
Service Data Type: esriImageServiceDataTypeGeneric
Min Values: 5.5191521644592285
Max Values: 111.97716522216797
Mean Values: 18.230626420321755
Standard Deviation Values: 10.390781816538247
Object ID Field:
Fields:
None
Default Mosaic Method: Center
Allowed Mosaic Methods:
SortField:
SortValue: null
Mosaic Operator: First
Default Compression Quality: 75
Default Resampling Method: Bilinear
Max Record Count: null
Max Image Height: 4100
Max Image Width: 15000
Max Download Image Count: null
Max Mosaic Image Count: null
Allow Raster Function: true
Allow Copy: true
Allow Analysis: true
Allow Compute TiePoints: false
Supports Statistics: false
Supports Advanced Queries: false
Use StandardizedQueries: true
Raster Type Infos:
Name: Raster Dataset
Description: Supports all ArcGIS Raster Datasets
Help:
Has Raster Attribute Table: false
Edit Fields Info: null
Ownership Based AccessControl For Rasters: null
Child Resources:
Info
Histograms
Statistics
Key Properties
Legend
Raster Function Infos
Supported Operations:
Export Image
Identify
Measure
Compute Histograms
Compute Statistics Histograms
Get Samples
Compute Class Statistics
Query Boundary
Compute Pixel Location
Compute Angles
Validate
Project