{ "currentVersion": 11.3, "serviceDescription": "
Monthly 30-year \"normal\" dataset covering the conterminous U.S., averaged over the climatological period 1981-2010. Contains spatially gridded average annual precipitation at 800m grid cell resolution. Distribution of the point measurements to the spatial grid was accomplished using the PRISM model, developed and applied by Dr. Christopher Daly of the PRISM Climate Group at Oregon State University. This dataset was heavily peer reviewed, and is available free-of-charge on the PRISM website. Displayed in Inches.<\/SPAN><\/P> <\/P><\/DIV><\/DIV><\/DIV>",
"name": "WRD/WMB_MeanPrecipBasin",
"description": " Monthly 30-year \"normal\" dataset covering the conterminous U.S., averaged over the climatological period 1981-2010. Contains spatially gridded average annual precipitation at 800m grid cell resolution. Distribution of the point measurements to the spatial grid was accomplished using the PRISM model, developed and applied by Dr. Christopher Daly of the PRISM Climate Group at Oregon State University. This dataset was heavily peer reviewed, and is available free-of-charge on the PRISM website. Displayed in Inches.<\/SPAN><\/P> <\/P><\/DIV><\/DIV><\/DIV>",
"extent": {
"xmin": -116.17916666666736,
"ymin": 42.30416666666604,
"xmax": -103.37083333332384,
"ymax": 49.187499999999,
"spatialReference": {
"wkid": 4269,
"latestWkid": 4269
}
},
"initialExtent": {
"xmin": -116.17916666666736,
"ymin": 42.30416666666604,
"xmax": -103.37083333332384,
"ymax": 49.187499999999,
"spatialReference": {
"wkid": 4269,
"latestWkid": 4269
}
},
"fullExtent": {
"xmin": -116.17916666666736,
"ymin": 42.30416666666604,
"xmax": -103.37083333332384,
"ymax": 49.187499999999,
"spatialReference": {
"wkid": 4269,
"latestWkid": 4269
}
},
"sortableFields": "",
"bandCount": 1,
"pixelType": "F32",
"minValues": [
5.5191521644592285
],
"maxValues": [
111.97716522216797
],
"meanValues": [
18.230626420321755
],
"stdvValues": [
10.390781816538247
],
"hasMultidimensions": false,
"pixelSizeX": 0.008333333333339956,
"pixelSizeY": 0.008333333333332877,
"meanPixelSize": 927.6624232776229,
"datasetFormat": "SDR",
"uncompressedSize": 5078248,
"blockWidth": 128,
"blockHeight": 128,
"compressionType": "LZ77",
"bandNames": [
"Band_1"
],
"allowCopy": true,
"allowAnalysis": true,
"itemAccess": false,
"inspectionCapabilities": "",
"minPixelSize": 0,
"maxPixelSize": 0,
"copyrightText": "PRISM Climate Group at Oregon State University",
"serviceDataType": "esriImageServiceDataTypeGeneric",
"serviceSourceType": "esriImageServiceSourceTypeDataset",
"objectIdField": "",
"fields": [],
"capabilities": "Image,Metadata,Mensuration",
"defaultMosaicMethod": "Center",
"allowedMosaicMethods": "",
"sortField": "",
"sortValue": null,
"sortAscending": true,
"mosaicOperator": "First",
"defaultCompressionQuality": 75,
"defaultResamplingMethod": "Bilinear",
"maxImageHeight": 4100,
"maxImageWidth": 15000,
"allowRasterFunction": true,
"rasterFunctionInfos": [
{
"name": "None",
"description": "",
"help": ""
}
],
"rasterTypeInfos": [
{
"name": "Raster Dataset",
"description": "Supports all ArcGIS Raster Datasets",
"help": ""
}
],
"mensurationCapabilities": "Basic",
"hasHistograms": true,
"hasColormap": false,
"hasRasterAttributeTable": false,
"minScale": 0,
"maxScale": 0,
"exportTilesAllowed": false,
"supportsStatistics": false,
"supportsAdvancedQueries": false,
"editFieldsInfo": null,
"ownershipBasedAccessControlForRasters": null,
"allowComputeTiePoints": false,
"useStandardizedQueries": true,
"advancedQueryCapabilities": {
"useStandardizedQueries": true,
"supportsStatistics": false,
"supportsOrderBy": false,
"supportsDistinct": false,
"supportsPagination": false
},
"spatialReference": {
"wkid": 4269,
"latestWkid": 4269
}
}