View In:
ArcGIS JavaScript
ArcGIS Online Map Viewer
ArcGIS Earth
Service Description: The MWRAfuelscape consists of geospatial data layers representing surface fuel model, canopy base height, canopy bulk density, and topography characteristics (slope, aspect, elevation). The fuelscape was developed from LANDFIRE Remap 2016 30-m raster data and edited based on feedback from interagency fuels and fire staffacross Montana. Additionally, the fuelscape was updated using RAVG, MTBS, and fire perimeter datasets where available to account for wildfire disturbances that occurred between 2017 and 2019. The fuelscape was also updated with FACTS/NFPORS treatment data and DNRC treatment data, provided by MT DNRC staff.
Note: LANDFIRE disturbance records reported a large fire perimeter (approximately 30,000 acres) in the Breckenridge, CO area from 2015. During the fuelscape calibration workshop, this was identified as an error in the FACTS database carried forward in LANDFIRE Remap. This record was removed from the fuel disturbance grid to prevent misrepresentation of fuel reduction within the original treatment polygon.
Name: MWRA/ch_30m
Description: The MWRAfuelscape consists of geospatial data layers representing surface fuel model, canopy base height, canopy bulk density, and topography characteristics (slope, aspect, elevation). The fuelscape was developed from LANDFIRE Remap 2016 30-m raster data and edited based on feedback from interagency fuels and fire staffacross Montana. Additionally, the fuelscape was updated using RAVG, MTBS, and fire perimeter datasets where available to account for wildfire disturbances that occurred between 2017 and 2019. The fuelscape was also updated with FACTS/NFPORS treatment data and DNRC treatment data, provided by MT DNRC staff.
Note: LANDFIRE disturbance records reported a large fire perimeter (approximately 30,000 acres) in the Breckenridge, CO area from 2015. During the fuelscape calibration workshop, this was identified as an error in the FACTS database carried forward in LANDFIRE Remap. This record was removed from the fuel disturbance grid to prevent misrepresentation of fuel reduction within the original treatment polygon.
Single Fused Map Cache: false
Extent:
XMin: 41848.618281289935
YMin: -52304.84078124538
XMax: 1100248.61828129
YMax: 609375.1592187546
Spatial Reference: 32100
(32100)
LatestVCSWkid(0)
Initial Extent:
XMin: 41848.618281289935
YMin: -52304.84078124538
XMax: 1100248.61828129
YMax: 609375.1592187546
Spatial Reference: 32100
(32100)
LatestVCSWkid(0)
Full Extent:
XMin: 41848.618281289935
YMin: -52304.84078124538
XMax: 1100248.61828129
YMax: 609375.1592187546
Spatial Reference: 32100
(32100)
LatestVCSWkid(0)
Pixel Size X: 30.0
Pixel Size Y: 30.0
Band Count: 1
Pixel Type: S16
RasterFunction Infos: {"rasterFunctionInfos": [{
"name": "None",
"description": "",
"help": ""
}]}
Mensuration Capabilities: Basic
Inspection Capabilities:
Has Histograms: true
Has Colormap: false
Has Multi Dimensions : false
Rendering Rule:
Min Scale: 0
Max Scale: 0
Copyright Text: This dataset was developed for the Montana Department of Natural Resources and Conservation’s Forestry Division by Pyrologix LLC (www.pyrologix.com).
Service Data Type: esriImageServiceDataTypeThematic
Min Values: 0
Max Values: 375
Mean Values: 41.79934182803516
Standard Deviation Values: 75.43676940362842
Object ID Field:
Fields:
None
Default Mosaic Method: Center
Allowed Mosaic Methods:
SortField:
SortValue: null
Mosaic Operator: First
Default Compression Quality: 75
Default Resampling Method: Bilinear
Max Record Count: null
Max Image Height: 4100
Max Image Width: 15000
Max Download Image Count: null
Max Mosaic Image Count: null
Allow Raster Function: true
Allow Copy: true
Allow Analysis: true
Allow Compute TiePoints: false
Supports Statistics: false
Supports Advanced Queries: false
Use StandardizedQueries: true
Raster Type Infos:
Name: Raster Dataset
Description: Supports all ArcGIS Raster Datasets
Help:
Has Raster Attribute Table: true
Edit Fields Info: null
Ownership Based AccessControl For Rasters: null
Child Resources:
Info
Raster Attribute Table
Histograms
Statistics
Key Properties
Legend
Raster Function Infos
Supported Operations:
Export Image
Identify
Measure
Compute Histograms
Compute Statistics Histograms
Get Samples
Compute Class Statistics
Query Boundary
Compute Pixel Location
Compute Angles
Validate
Project