{ "currentVersion": 11.3, "serviceDescription": "
The MWRAfuelscape consists of geospatial data layers representing surface fuel model, canopy base height, canopy bulk density, and topography characteristics (slope, aspect, elevation). The fuelscape was developed from LANDFIRE Remap 2016 30-m raster data and edited based on feedback from interagency fuels and fire staffacross Montana. Additionally, the fuelscape was updated using RAVG, MTBS, and fire perimeter datasets where available to account for wildfire disturbances that occurred between 2017 and 2019. The fuelscape was also updated with FACTS/NFPORS treatment data and DNRC treatment data, provided by MT DNRC staff.<\/SPAN><\/SPAN><\/P> Note: LANDFIRE disturbance records reported a large fire perimeter (approximately 30,000 acres) in the Breckenridge, CO area from 2015. During the fuelscape calibration workshop, this was identified as an error in the FACTS database carried forward in LANDFIRE Remap. This record was removed from the fuel disturbance grid to prevent misrepresentation of fuel reduction within the original treatment polygon.<\/SPAN><\/P><\/DIV><\/DIV><\/DIV>",
"name": "MWRA/ch_30m",
"description": " The MWRAfuelscape consists of geospatial data layers representing surface fuel model, canopy base height, canopy bulk density, and topography characteristics (slope, aspect, elevation). The fuelscape was developed from LANDFIRE Remap 2016 30-m raster data and edited based on feedback from interagency fuels and fire staffacross Montana. Additionally, the fuelscape was updated using RAVG, MTBS, and fire perimeter datasets where available to account for wildfire disturbances that occurred between 2017 and 2019. The fuelscape was also updated with FACTS/NFPORS treatment data and DNRC treatment data, provided by MT DNRC staff.<\/SPAN><\/SPAN><\/P> Note: LANDFIRE disturbance records reported a large fire perimeter (approximately 30,000 acres) in the Breckenridge, CO area from 2015. During the fuelscape calibration workshop, this was identified as an error in the FACTS database carried forward in LANDFIRE Remap. This record was removed from the fuel disturbance grid to prevent misrepresentation of fuel reduction within the original treatment polygon.<\/SPAN><\/P><\/DIV><\/DIV><\/DIV>",
"extent": {
"xmin": 41848.618281289935,
"ymin": -52304.84078124538,
"xmax": 1100248.61828129,
"ymax": 609375.1592187546,
"spatialReference": {
"wkid": 32100,
"latestWkid": 32100
}
},
"initialExtent": {
"xmin": 41848.618281289935,
"ymin": -52304.84078124538,
"xmax": 1100248.61828129,
"ymax": 609375.1592187546,
"spatialReference": {
"wkid": 32100,
"latestWkid": 32100
}
},
"fullExtent": {
"xmin": 41848.618281289935,
"ymin": -52304.84078124538,
"xmax": 1100248.61828129,
"ymax": 609375.1592187546,
"spatialReference": {
"wkid": 32100,
"latestWkid": 32100
}
},
"sortableFields": "",
"bandCount": 1,
"pixelType": "S16",
"minValues": [
0
],
"maxValues": [
375
],
"meanValues": [
41.79934182803516
],
"stdvValues": [
75.43676940362842
],
"hasMultidimensions": false,
"pixelSizeX": 30,
"pixelSizeY": 30,
"meanPixelSize": 30,
"datasetFormat": "SDR",
"uncompressedSize": 1556271360,
"blockWidth": 128,
"blockHeight": 128,
"compressionType": "LZ77",
"bandNames": [
"Band_1"
],
"allowCopy": true,
"allowAnalysis": true,
"itemAccess": false,
"inspectionCapabilities": "",
"minPixelSize": 0,
"maxPixelSize": 0,
"copyrightText": "This dataset was developed for the Montana Department of Natural Resources and Conservation\u2019s Forestry Division by Pyrologix LLC (www.pyrologix.com).",
"serviceDataType": "esriImageServiceDataTypeThematic",
"serviceSourceType": "esriImageServiceSourceTypeDataset",
"objectIdField": "",
"fields": [],
"capabilities": "Image,Metadata,Mensuration",
"defaultMosaicMethod": "Center",
"allowedMosaicMethods": "",
"sortField": "",
"sortValue": null,
"sortAscending": true,
"mosaicOperator": "First",
"defaultCompressionQuality": 75,
"defaultResamplingMethod": "Bilinear",
"maxImageHeight": 4100,
"maxImageWidth": 15000,
"allowRasterFunction": true,
"rasterFunctionInfos": [
{
"name": "None",
"description": "",
"help": ""
}
],
"rasterTypeInfos": [
{
"name": "Raster Dataset",
"description": "Supports all ArcGIS Raster Datasets",
"help": ""
}
],
"mensurationCapabilities": "Basic",
"hasHistograms": true,
"hasColormap": false,
"hasRasterAttributeTable": true,
"minScale": 0,
"maxScale": 0,
"exportTilesAllowed": false,
"supportsStatistics": false,
"supportsAdvancedQueries": false,
"editFieldsInfo": null,
"ownershipBasedAccessControlForRasters": null,
"allowComputeTiePoints": false,
"useStandardizedQueries": true,
"advancedQueryCapabilities": {
"useStandardizedQueries": true,
"supportsStatistics": false,
"supportsOrderBy": false,
"supportsDistinct": false,
"supportsPagination": false
},
"spatialReference": {
"wkid": 32100,
"latestWkid": 32100
}
}