View In:
ArcGIS JavaScript
ArcGIS Online Map Viewer
ArcGIS Earth
Service Description: FBC/LakeCounty_PhysicalSepticRiskClass
Name: FBC/LakeCounty_PhysicalSepticRiskClass
Description:
Single Fused Map Cache: false
Extent:
XMin: 714145.224737378
YMin: 1084159.2520759495
XMax: 960169.7586163847
YMax: 1418011.1250427065
Spatial Reference: 102700
(102700)
LatestVCSWkid(0)
Initial Extent:
XMin: 714145.224737378
YMin: 1084159.2520759495
XMax: 960169.7586163847
YMax: 1418011.1250427065
Spatial Reference: 102700
(102700)
LatestVCSWkid(0)
Full Extent:
XMin: 714145.224737378
YMin: 1084159.2520759495
XMax: 960169.7586163847
YMax: 1418011.1250427065
Spatial Reference: 102700
(102700)
LatestVCSWkid(0)
Pixel Size X: 89.987027753843
Pixel Size Y: 89.98702775384287
Band Count: 1
Pixel Type: U8
RasterFunction Infos: {"rasterFunctionInfos": [{
"name": "None",
"description": "",
"help": ""
}]}
Mensuration Capabilities: Basic
Inspection Capabilities:
Has Histograms: true
Has Colormap: false
Has Multi Dimensions : false
Rendering Rule:
Min Scale: 0
Max Scale: 0
Copyright Text:
Service Data Type: esriImageServiceDataTypeGeneric
Min Values: 1
Max Values: 4
Mean Values: 2.99156091245565
Standard Deviation Values: 1.1140741316021632
Object ID Field:
Fields:
None
Default Mosaic Method: Center
Allowed Mosaic Methods:
SortField:
SortValue: null
Mosaic Operator: First
Default Compression Quality: 75
Default Resampling Method: Bilinear
Max Record Count: null
Max Image Height: 4100
Max Image Width: 15000
Max Download Image Count: null
Max Mosaic Image Count: null
Allow Raster Function: true
Allow Copy: true
Allow Analysis: true
Allow Compute TiePoints: false
Supports Statistics: false
Supports Advanced Queries: false
Use StandardizedQueries: true
Raster Type Infos:
Name: Raster Dataset
Description: Supports all ArcGIS Raster Datasets
Help:
Has Raster Attribute Table: true
Edit Fields Info: null
Ownership Based AccessControl For Rasters: null
Child Resources:
Info
Raster Attribute Table
Histograms
Statistics
Key Properties
Legend
Raster Function Infos
Supported Operations:
Export Image
Identify
Measure
Compute Histograms
Compute Statistics Histograms
Get Samples
Compute Class Statistics
Query Boundary
Compute Pixel Location
Compute Angles
Validate
Project