{
 "currentVersion": 11.3,
 "serviceDescription": "FBC/LakeCounty_PhysicalSepticRiskClass",
 "name": "FBC/LakeCounty_PhysicalSepticRiskClass",
 "description": "",
 "extent": {
  "xmin": 714145.224737378,
  "ymin": 1084159.2520759495,
  "xmax": 960169.7586163847,
  "ymax": 1418011.1250427065,
  "spatialReference": {
   "wkid": 102700,
   "latestWkid": 102700
  }
 },
 "initialExtent": {
  "xmin": 714145.224737378,
  "ymin": 1084159.2520759495,
  "xmax": 960169.7586163847,
  "ymax": 1418011.1250427065,
  "spatialReference": {
   "wkid": 102700,
   "latestWkid": 102700
  }
 },
 "fullExtent": {
  "xmin": 714145.224737378,
  "ymin": 1084159.2520759495,
  "xmax": 960169.7586163847,
  "ymax": 1418011.1250427065,
  "spatialReference": {
   "wkid": 102700,
   "latestWkid": 102700
  }
 },
 "sortableFields": "",
 "bandCount": 1,
 "pixelType": "U8",
 "minValues": [
  1
 ],
 "maxValues": [
  4
 ],
 "meanValues": [
  2.99156091245565
 ],
 "stdvValues": [
  1.1140741316021632
 ],
 "hasMultidimensions": false,
 "pixelSizeX": 89.987027753843,
 "pixelSizeY": 89.98702775384287,
 "meanPixelSize": 27.42810091557316,
 "datasetFormat": "SDR",
 "uncompressedSize": 10143140,
 "blockWidth": 128,
 "blockHeight": 128,
 "compressionType": "LZ77",
 "bandNames": [
  "Band_1"
 ],
 "allowCopy": true,
 "allowAnalysis": true,
 "itemAccess": false,
 "inspectionCapabilities": "",
 "minPixelSize": 0,
 "maxPixelSize": 0,
 "copyrightText": "",
 "serviceDataType": "esriImageServiceDataTypeGeneric",
 "serviceSourceType": "esriImageServiceSourceTypeDataset",
 "objectIdField": "",
 "fields": [],
 "capabilities": "Image,Metadata,Mensuration",
 "defaultMosaicMethod": "Center",
 "allowedMosaicMethods": "",
 "sortField": "",
 "sortValue": null,
 "sortAscending": true,
 "mosaicOperator": "First",
 "defaultCompressionQuality": 75,
 "defaultResamplingMethod": "Bilinear",
 "maxImageHeight": 4100,
 "maxImageWidth": 15000,
 "allowRasterFunction": true,
 "rasterFunctionInfos": [
  {
   "name": "None",
   "description": "",
   "help": ""
  }
 ],
 "rasterTypeInfos": [
  {
   "name": "Raster Dataset",
   "description": "Supports all ArcGIS Raster Datasets",
   "help": ""
  }
 ],
 "mensurationCapabilities": "Basic",
 "hasHistograms": true,
 "hasColormap": false,
 "hasRasterAttributeTable": true,
 "minScale": 0,
 "maxScale": 0,
 "exportTilesAllowed": false,
 "supportsStatistics": false,
 "supportsAdvancedQueries": false,
 "editFieldsInfo": null,
 "ownershipBasedAccessControlForRasters": null,
 "allowComputeTiePoints": false,
 "useStandardizedQueries": true,
 "advancedQueryCapabilities": {
  "useStandardizedQueries": true,
  "supportsStatistics": false,
  "supportsOrderBy": false,
  "supportsDistinct": false,
  "supportsPagination": false
 },
 "spatialReference": {
  "wkid": 102700,
  "latestWkid": 102700
 }
}
