View In:
ArcGIS JavaScript
ArcGIS Online Map Viewer
ArcGIS Earth
Service Description: FBC/FlatheadCounty_SlopeClass
Name: FBC/FlatheadCounty_SlopeClass
Description:
Single Fused Map Cache: false
Extent:
XMin: 189303.5564752079
YMin: 378214.90267416614
XMax: 347961.768096437
YMax: 540708.2388676585
Spatial Reference: 32100
(32100)
LatestVCSWkid(0)
Initial Extent:
XMin: 189303.5564752079
YMin: 378214.90267416614
XMax: 347961.768096437
YMax: 540708.2388676585
Spatial Reference: 32100
(32100)
LatestVCSWkid(0)
Full Extent:
XMin: 189303.5564752079
YMin: 378214.90267416614
XMax: 347961.768096437
YMax: 540708.2388676585
Spatial Reference: 32100
(32100)
LatestVCSWkid(0)
Pixel Size X: 8.918894351634666
Pixel Size Y: 8.91889435169287
Band Count: 1
Pixel Type: U8
RasterFunction Infos: {"rasterFunctionInfos": [{
"name": "None",
"description": "",
"help": ""
}]}
Mensuration Capabilities: Basic
Inspection Capabilities:
Has Histograms: true
Has Colormap: false
Has Multi Dimensions : false
Rendering Rule:
Min Scale: 0
Max Scale: 0
Copyright Text:
Service Data Type: esriImageServiceDataTypeGeneric
Min Values: 1
Max Values: 3
Mean Values: 2.511447728313344
Standard Deviation Values: 0.6926108576585859
Object ID Field:
Fields:
None
Default Mosaic Method: Center
Allowed Mosaic Methods:
SortField:
SortValue: null
Mosaic Operator: First
Default Compression Quality: 75
Default Resampling Method: Bilinear
Max Record Count: null
Max Image Height: 4100
Max Image Width: 15000
Max Download Image Count: null
Max Mosaic Image Count: null
Allow Raster Function: true
Allow Copy: true
Allow Analysis: true
Allow Compute TiePoints: false
Supports Statistics: false
Supports Advanced Queries: false
Use StandardizedQueries: true
Raster Type Infos:
Name: Raster Dataset
Description: Supports all ArcGIS Raster Datasets
Help:
Has Raster Attribute Table: true
Edit Fields Info: null
Ownership Based AccessControl For Rasters: null
Child Resources:
Info
Raster Attribute Table
Histograms
Statistics
Key Properties
Legend
Raster Function Infos
Supported Operations:
Export Image
Identify
Measure
Compute Histograms
Compute Statistics Histograms
Get Samples
Compute Class Statistics
Query Boundary
Compute Pixel Location
Compute Angles
Validate
Project