View In:
ArcGIS JavaScript
ArcGIS Online Map Viewer
ArcGIS Earth
Service Description: FBC/FlatheadCounty_SepticAgeDensity
Name: FBC/FlatheadCounty_SepticAgeDensity
Description:
Single Fused Map Cache: false
Extent:
XMin: 189315.82296875055
YMin: 378116.3776562494
XMax: 347953.47000000195
YMax: 540678.0501368908
Spatial Reference: 102300
(2818)
LatestVCSWkid(0)
Initial Extent:
XMin: 189315.82296875055
YMin: 378116.3776562494
XMax: 347953.47000000195
YMax: 540678.0501368908
Spatial Reference: 102300
(2818)
LatestVCSWkid(0)
Full Extent:
XMin: 189315.82296875055
YMin: 378116.3776562494
XMax: 347953.47000000195
YMax: 540678.0501368908
Spatial Reference: 102300
(2818)
LatestVCSWkid(0)
Pixel Size X: 8.918239657704712
Pixel Size Y: 8.91823965770471
Band Count: 1
Pixel Type: U8
RasterFunction Infos: {"rasterFunctionInfos": [{
"name": "None",
"description": "",
"help": ""
}]}
Mensuration Capabilities: Basic
Inspection Capabilities:
Has Histograms: true
Has Colormap: false
Has Multi Dimensions : false
Rendering Rule:
Min Scale: 0
Max Scale: 0
Copyright Text:
Service Data Type: esriImageServiceDataTypeGeneric
Min Values: 1
Max Values: 5
Mean Values: 1.3038959613368217
Standard Deviation Values: 0.7510203082202652
Object ID Field:
Fields:
None
Default Mosaic Method: Center
Allowed Mosaic Methods:
SortField:
SortValue: null
Mosaic Operator: First
Default Compression Quality: 75
Default Resampling Method: Bilinear
Max Record Count: null
Max Image Height: 4100
Max Image Width: 15000
Max Download Image Count: null
Max Mosaic Image Count: null
Allow Raster Function: true
Allow Copy: true
Allow Analysis: true
Allow Compute TiePoints: false
Supports Statistics: false
Supports Advanced Queries: false
Use StandardizedQueries: true
Raster Type Infos:
Name: Raster Dataset
Description: Supports all ArcGIS Raster Datasets
Help:
Has Raster Attribute Table: true
Edit Fields Info: null
Ownership Based AccessControl For Rasters: null
Child Resources:
Info
Raster Attribute Table
Histograms
Statistics
Key Properties
Legend
Raster Function Infos
Supported Operations:
Export Image
Identify
Measure
Compute Histograms
Compute Statistics Histograms
Get Samples
Compute Class Statistics
Query Boundary
Compute Pixel Location
Compute Angles
Validate
Project