View In:
ArcGIS JavaScript
ArcGIS Online Map Viewer
ArcGIS Earth
Service Description: FBC/FlatheadCounty_GWClass
Name: FBC/FlatheadCounty_GWClass
Description:
Single Fused Map Cache: false
Extent:
XMin: 189310.81167136243
YMin: 378206.5680978531
XMax: 347956.44839075085
YMax: 540705.07838722
Spatial Reference: 32100
(32100)
LatestVCSWkid(0)
Initial Extent:
XMin: 189310.81167136243
YMin: 378206.5680978531
XMax: 347956.44839075085
YMax: 540705.07838722
Spatial Reference: 32100
(32100)
LatestVCSWkid(0)
Full Extent:
XMin: 189310.81167136243
YMin: 378206.5680978531
XMax: 347956.44839075085
YMax: 540705.07838722
Spatial Reference: 32100
(32100)
LatestVCSWkid(0)
Pixel Size X: 8.918688819394447
Pixel Size Y: 8.918688819394454
Band Count: 1
Pixel Type: U8
RasterFunction Infos: {"rasterFunctionInfos": [{
"name": "None",
"description": "",
"help": ""
}]}
Mensuration Capabilities: Basic
Inspection Capabilities:
Has Histograms: true
Has Colormap: false
Has Multi Dimensions : false
Rendering Rule:
Min Scale: 0
Max Scale: 0
Copyright Text:
Service Data Type: esriImageServiceDataTypeGeneric
Min Values: 1
Max Values: 3
Mean Values: 2.10221559804916
Standard Deviation Values: 0.8335833048845909
Object ID Field:
Fields:
None
Default Mosaic Method: Center
Allowed Mosaic Methods:
SortField:
SortValue: null
Mosaic Operator: First
Default Compression Quality: 75
Default Resampling Method: Bilinear
Max Record Count: null
Max Image Height: 4100
Max Image Width: 15000
Max Download Image Count: null
Max Mosaic Image Count: null
Allow Raster Function: true
Allow Copy: true
Allow Analysis: true
Allow Compute TiePoints: false
Supports Statistics: false
Supports Advanced Queries: false
Use StandardizedQueries: true
Raster Type Infos:
Name: Raster Dataset
Description: Supports all ArcGIS Raster Datasets
Help:
Has Raster Attribute Table: true
Edit Fields Info: null
Ownership Based AccessControl For Rasters: null
Child Resources:
Info
Raster Attribute Table
Histograms
Statistics
Key Properties
Legend
Raster Function Infos
Supported Operations:
Export Image
Identify
Measure
Compute Histograms
Compute Statistics Histograms
Get Samples
Compute Class Statistics
Query Boundary
Compute Pixel Location
Compute Angles
Validate
Project