{
 "currentVersion": 11.3,
 "serviceDescription": "WRO/Spruce_Budworm_Recurrence",
 "name": "WRO/Spruce_Budworm_Recurrence",
 "description": "",
 "extent": {
  "xmin": -1.2932940955027765E7,
  "ymin": 5502304.815265344,
  "xmax": -1.1533980955027765E7,
  "ymax": 6305644.815265344,
  "spatialReference": {
   "wkid": 102100,
   "latestWkid": 3857
  }
 },
 "initialExtent": {
  "xmin": -1.2932940955027765E7,
  "ymin": 5502304.815265344,
  "xmax": -1.1533980955027765E7,
  "ymax": 6305644.815265344,
  "spatialReference": {
   "wkid": 102100,
   "latestWkid": 3857
  }
 },
 "fullExtent": {
  "xmin": -1.2932940955027765E7,
  "ymin": 5502304.815265344,
  "xmax": -1.1533980955027765E7,
  "ymax": 6305644.815265344,
  "spatialReference": {
   "wkid": 102100,
   "latestWkid": 3857
  }
 },
 "sortableFields": "",
 "bandCount": 1,
 "pixelType": "S8",
 "minValues": [
  0
 ],
 "maxValues": [
  3
 ],
 "meanValues": [
  0.09384269625549346
 ],
 "stdvValues": [
  0.35626108681101853
 ],
 "hasMultidimensions": false,
 "pixelSizeX": 90,
 "pixelSizeY": 90,
 "meanPixelSize": 90,
 "datasetFormat": "SDR",
 "uncompressedSize": 138745744,
 "blockWidth": 128,
 "blockHeight": 128,
 "compressionType": "LZ77",
 "bandNames": [
  "Band_1"
 ],
 "allowCopy": true,
 "allowAnalysis": true,
 "itemAccess": false,
 "inspectionCapabilities": "",
 "minPixelSize": 0,
 "maxPixelSize": 0,
 "copyrightText": "",
 "serviceDataType": "esriImageServiceDataTypeGeneric",
 "serviceSourceType": "esriImageServiceSourceTypeDataset",
 "objectIdField": "",
 "fields": [],
 "capabilities": "Image,Metadata,Mensuration",
 "defaultMosaicMethod": "Center",
 "allowedMosaicMethods": "",
 "sortField": "",
 "sortValue": null,
 "sortAscending": true,
 "mosaicOperator": "First",
 "defaultCompressionQuality": 75,
 "defaultResamplingMethod": "Bilinear",
 "maxImageHeight": 4100,
 "maxImageWidth": 15000,
 "allowRasterFunction": true,
 "rasterFunctionInfos": [
  {
   "name": "None",
   "description": "",
   "help": ""
  }
 ],
 "rasterTypeInfos": [
  {
   "name": "Raster Dataset",
   "description": "Supports all ArcGIS Raster Datasets",
   "help": ""
  }
 ],
 "mensurationCapabilities": "Basic",
 "hasHistograms": true,
 "hasColormap": false,
 "hasRasterAttributeTable": true,
 "minScale": 0,
 "maxScale": 0,
 "exportTilesAllowed": false,
 "supportsStatistics": false,
 "supportsAdvancedQueries": false,
 "editFieldsInfo": null,
 "ownershipBasedAccessControlForRasters": null,
 "allowComputeTiePoints": false,
 "useStandardizedQueries": true,
 "advancedQueryCapabilities": {
  "useStandardizedQueries": true,
  "supportsStatistics": false,
  "supportsOrderBy": false,
  "supportsDistinct": false,
  "supportsPagination": false
 },
 "spatialReference": {
  "wkid": 102100,
  "latestWkid": 3857
 }
}
