<?xml version="1.0" encoding="UTF-8" standalone="no"?>
<metadata xml:lang="en">
<Esri>
<CreaDate>20191126</CreaDate>
<CreaTime>10263100</CreaTime>
<ArcGISFormat>1.0</ArcGISFormat>
<ArcGISstyle>FGDC CSDGM Metadata</ArcGISstyle>
<SyncOnce>FALSE</SyncOnce>
<DataProperties>
<itemProps>
<itemName Sync="TRUE">GISIMAGERY.IMAGERY_DO.mwra_dem_30m</itemName>
<itemLocation>
<linkage Sync="TRUE">Server=dnrhln6349; Service=sde:sqlserver:dnrhln6349; Database=GISIMAGERY; User=IMAGERY_DO; Version=sde.DEFAULT</linkage>
<protocol Sync="TRUE">ArcSDE Connection</protocol>
</itemLocation>
<imsContentType Sync="TRUE">002</imsContentType>
<nativeExtBox>
<westBL Sync="TRUE">41848.618281</westBL>
<eastBL Sync="TRUE">1100248.618281</eastBL>
<southBL Sync="TRUE">-52304.840781</southBL>
<northBL Sync="TRUE">609375.159219</northBL>
<exTypeCode Sync="TRUE">1</exTypeCode>
</nativeExtBox>
</itemProps>
<coordRef>
<type Sync="TRUE">Projected</type>
<geogcsn Sync="TRUE">GCS_North_American_1983</geogcsn>
<csUnits Sync="TRUE">Linear Unit: Meter (1.000000)</csUnits>
<projcsn Sync="TRUE">NAD_1983_StatePlane_Montana_FIPS_2500</projcsn>
<peXml Sync="TRUE">&lt;ProjectedCoordinateSystem xsi:type='typens:ProjectedCoordinateSystem' xmlns:xsi='http://www.w3.org/2001/XMLSchema-instance' xmlns:xs='http://www.w3.org/2001/XMLSchema' xmlns:typens='http://www.esri.com/schemas/ArcGIS/10.6'&gt;&lt;WKT&gt;PROJCS[&amp;quot;NAD_1983_StatePlane_Montana_FIPS_2500&amp;quot;,GEOGCS[&amp;quot;GCS_North_American_1983&amp;quot;,DATUM[&amp;quot;D_North_American_1983&amp;quot;,SPHEROID[&amp;quot;GRS_1980&amp;quot;,6378137.0,298.257222101]],PRIMEM[&amp;quot;Greenwich&amp;quot;,0.0],UNIT[&amp;quot;Degree&amp;quot;,0.0174532925199433]],PROJECTION[&amp;quot;Lambert_Conformal_Conic&amp;quot;],PARAMETER[&amp;quot;False_Easting&amp;quot;,600000.0],PARAMETER[&amp;quot;False_Northing&amp;quot;,0.0],PARAMETER[&amp;quot;Central_Meridian&amp;quot;,-109.5],PARAMETER[&amp;quot;Standard_Parallel_1&amp;quot;,45.0],PARAMETER[&amp;quot;Standard_Parallel_2&amp;quot;,49.0],PARAMETER[&amp;quot;Latitude_Of_Origin&amp;quot;,44.25],UNIT[&amp;quot;Meter&amp;quot;,1.0],AUTHORITY[&amp;quot;EPSG&amp;quot;,32100]]&lt;/WKT&gt;&lt;XOrigin&gt;-35666000&lt;/XOrigin&gt;&lt;YOrigin&gt;-30006900&lt;/YOrigin&gt;&lt;XYScale&gt;124182419.54917815&lt;/XYScale&gt;&lt;ZOrigin&gt;-100000&lt;/ZOrigin&gt;&lt;ZScale&gt;10000&lt;/ZScale&gt;&lt;MOrigin&gt;-100000&lt;/MOrigin&gt;&lt;MScale&gt;10000&lt;/MScale&gt;&lt;XYTolerance&gt;0.001&lt;/XYTolerance&gt;&lt;ZTolerance&gt;0.00020000000000000001&lt;/ZTolerance&gt;&lt;MTolerance&gt;0.00020000000000000001&lt;/MTolerance&gt;&lt;HighPrecision&gt;true&lt;/HighPrecision&gt;&lt;WKID&gt;32100&lt;/WKID&gt;&lt;LatestWKID&gt;32100&lt;/LatestWKID&gt;&lt;/ProjectedCoordinateSystem&gt;</peXml>
</coordRef>
<RasterProperties>
<General>
<PixelDepth Sync="TRUE">16</PixelDepth>
<HasColormap Sync="TRUE">FALSE</HasColormap>
<CompressionType Sync="TRUE">RLE</CompressionType>
<NumBands Sync="TRUE">1</NumBands>
<Format Sync="TRUE">GRID</Format>
<HasPyramids Sync="TRUE">TRUE</HasPyramids>
<SourceType Sync="TRUE">discrete</SourceType>
<PixelType Sync="TRUE">signed integer</PixelType>
<NoDataValue Sync="TRUE">-32768</NoDataValue>
</General>
</RasterProperties>
</DataProperties>
<SyncDate>20201217</SyncDate>
<SyncTime>20162700</SyncTime>
<ModDate>20201217</ModDate>
<ModTime>20162700</ModTime>
<scaleRange>
<minScale>150000000</minScale>
<maxScale>5000</maxScale>
</scaleRange>
<ArcGISProfile>FGDC</ArcGISProfile>
</Esri>
<dataIdInfo>
<envirDesc Sync="TRUE"> Version 6.2 (Build 9200) ; Esri ArcGIS 10.6.1.9273</envirDesc>
<dataLang>
<languageCode Sync="TRUE" value="eng"/>
<countryCode Sync="TRUE" value="USA"/>
</dataLang>
<idCitation>
<resTitle Sync="TRUE">dem_30m</resTitle>
<presForm>
<PresFormCd Sync="TRUE" value="011"/>
</presForm>
</idCitation>
<spatRpType>
<SpatRepTypCd Sync="TRUE" value="002"/>
</spatRpType>
<dataExt>
<geoEle>
<GeoBndBox esriExtentType="search">
<exTypeCode Sync="TRUE">1</exTypeCode>
<westBL Sync="TRUE">-117.212977</westBL>
<eastBL Sync="TRUE">-102.582777</eastBL>
<northBL Sync="TRUE">49.732685</northBL>
<southBL Sync="TRUE">43.558144</southBL>
</GeoBndBox>
</geoEle>
</dataExt>
<idPurp>The purpose of the State of Montana Wildfire Risk Assessment (MWRA) is to provide foundational information about wildfire hazard and risk to highly valued resources and assets across the assessment area. Such information supports regional fuel management planning decisions, as well as revisions to land and resource management plans. A wildfire risk assessment is a quantitative analysis of assets and resources and how they would be potentially impacted by wildfire. The MWRA analysis considers several different components, each resolved spatially across the region, including:
• likelihood of a fire burning, • the intensity of a fire if one should occur,
• the exposure of assets and resources based on their locations, and • the susceptibility of those assets and resources to wildfire.
This elevation dataset is an input for generating the MWRA fuelscape. Units are in meters above mean sea level. Data finalized 12/20/2019.</idPurp>
<idAbs>&lt;div style='text-align:Left;'&gt;&lt;div&gt;&lt;div&gt;&lt;p&gt;&lt;span&gt;&lt;span&gt;The MWRAfuelscape consists of geospatial data layers representing surface fuel model, canopy base height, canopy bulk density, and topography characteristics (slope, aspect, elevation). The fuelscape was developed from LANDFIRE Remap 2016 30-m raster data and edited based on feedback from interagency fuels and fire staffacross Montana. Additionally, the fuelscape was updated using RAVG, MTBS, and fire perimeter datasets where available to account for wildfire disturbances that occurred between 2017 and 2019. The fuelscape was also updated with FACTS/NFPORS treatment data and DNRC treatment data, provided by MT DNRC staff.&lt;/span&gt;&lt;/span&gt;&lt;/p&gt;&lt;p&gt;&lt;span&gt;Note: LANDFIRE disturbance records reported a large fire perimeter (approximately 30,000 acres) in the Breckenridge, CO area from 2015. During the fuelscape calibration workshop, this was identified as an error in the FACTS database carried forward in LANDFIRE Remap. This record was removed from the fuel disturbance grid to prevent misrepresentation of fuel reduction within the original treatment polygon.&lt;/span&gt;&lt;/p&gt;&lt;/div&gt;&lt;/div&gt;&lt;/div&gt;</idAbs>
<idCredit>This dataset was developed for the Montana Department of Natural Resources and Conservation’s Forestry Division by Pyrologix LLC (www.pyrologix.com).</idCredit>
<resConst>
<Consts>
<useLimit>&lt;div style='text-align:Left;'&gt;&lt;div&gt;&lt;div&gt;&lt;p&gt;&lt;span&gt;The user must be aware of data conditions and must ultimately bear responsibility for the appropriate use of the information with respect to possible errors, possible omissions, map scale, data collection methodology, data currency, and other conditions specific to certain data.&lt;/span&gt;&lt;/p&gt;&lt;/div&gt;&lt;/div&gt;&lt;/div&gt;</useLimit>
</Consts>
</resConst>
<searchKeys>
<keyword>MWRA</keyword>
<keyword>FPB</keyword>
<keyword>FD</keyword>
<keyword>DNRC</keyword>
</searchKeys>
</dataIdInfo>
<mdLang>
<languageCode Sync="TRUE" value="eng"/>
<countryCode Sync="TRUE" value="USA"/>
</mdLang>
<distInfo>
<distFormat>
<formatName Sync="TRUE">SDE Raster Dataset</formatName>
</distFormat>
</distInfo>
<mdHrLv>
<ScopeCd Sync="TRUE" value="005"/>
</mdHrLv>
<mdHrLvName Sync="TRUE">dataset</mdHrLvName>
<refSysInfo>
<RefSystem>
<refSysID>
<identCode Sync="TRUE" code="32100"/>
<idCodeSpace Sync="TRUE">EPSG</idCodeSpace>
<idVersion Sync="TRUE">4.5(3.0.1)</idVersion>
</refSysID>
</RefSystem>
</refSysInfo>
<spatRepInfo>
<Georect>
<cellGeo>
<CellGeoCd Sync="TRUE" value="002"/>
</cellGeo>
<numDims Sync="TRUE">2</numDims>
<tranParaAv Sync="TRUE">1</tranParaAv>
<chkPtAv Sync="TRUE">0</chkPtAv>
<cornerPts>
<pos Sync="TRUE">41848.618281 -52304.840781</pos>
</cornerPts>
<cornerPts>
<pos Sync="TRUE">41848.618281 609375.159219</pos>
</cornerPts>
<cornerPts>
<pos Sync="TRUE">1100248.618281 609375.159219</pos>
</cornerPts>
<cornerPts>
<pos Sync="TRUE">1100248.618281 -52304.840781</pos>
</cornerPts>
<centerPt>
<pos Sync="TRUE">571048.618281 278535.159219</pos>
</centerPt>
<axisDimension type="002">
<dimSize Sync="TRUE">35280</dimSize>
<dimResol>
<value Sync="TRUE" uom="m">30.000000</value>
</dimResol>
</axisDimension>
<axisDimension type="001">
<dimSize Sync="TRUE">22056</dimSize>
<dimResol>
<value Sync="TRUE" uom="m">30.000000</value>
</dimResol>
</axisDimension>
<ptInPixel>
<PixOrientCd Sync="TRUE" value="001"/>
</ptInPixel>
</Georect>
</spatRepInfo>
<eainfo>
<detailed Name="GISIMAGERY.IMAGERY_DO.SDE_VAT_93">
<enttyp>
<enttypl Sync="TRUE">GISIMAGERY.IMAGERY_DO.SDE_VAT_93</enttypl>
<enttypt Sync="TRUE">Table</enttypt>
<enttypc Sync="TRUE">3552</enttypc>
</enttyp>
<attr>
<attrlabl Sync="TRUE">OBJECTID</attrlabl>
<attalias Sync="TRUE">OBJECTID</attalias>
<attrtype Sync="TRUE">OID</attrtype>
<attwidth Sync="TRUE">4</attwidth>
<atprecis Sync="TRUE">10</atprecis>
<attscale Sync="TRUE">0</attscale>
<attrdef Sync="TRUE">Internal feature number.</attrdef>
<attrdefs Sync="TRUE">Esri</attrdefs>
<attrdomv>
<udom Sync="TRUE">Sequential unique whole numbers that are automatically generated.</udom>
</attrdomv>
</attr>
<attr>
<attrlabl Sync="TRUE">VALUE</attrlabl>
<attalias Sync="TRUE">VALUE</attalias>
<attrtype Sync="TRUE">Integer</attrtype>
<attwidth Sync="TRUE">4</attwidth>
<atprecis Sync="TRUE">10</atprecis>
<attscale Sync="TRUE">0</attscale>
</attr>
<attr>
<attrlabl Sync="TRUE">COUNT_</attrlabl>
<attalias Sync="TRUE">COUNT_</attalias>
<attrtype Sync="TRUE">Integer</attrtype>
<attwidth Sync="TRUE">4</attwidth>
<atprecis Sync="TRUE">10</atprecis>
<attscale Sync="TRUE">0</attscale>
</attr>
</detailed>
</eainfo>
<contInfo>
<ImgDesc>
<contentTyp>
<ContentTypCd Sync="TRUE" value="002"/>
</contentTyp>
<covDim>
<Band>
<dimDescrp Sync="TRUE">Band_1</dimDescrp>
<maxVal Sync="TRUE">4016.000000</maxVal>
<minVal Sync="TRUE">0.000000</minVal>
<bitsPerVal Sync="TRUE">16</bitsPerVal>
<valUnit>
<UOM type="length"/>
</valUnit>
</Band>
</covDim>
</ImgDesc>
</contInfo>
<mdDateSt Sync="TRUE">20201217</mdDateSt>
<spdoinfo>
<rastinfo>
<rasttype Sync="TRUE">Pixel</rasttype>
<rowcount Sync="TRUE">22056</rowcount>
<colcount Sync="TRUE">35280</colcount>
<rastxsz Sync="TRUE">30.000000</rastxsz>
<rastysz Sync="TRUE">30.000000</rastysz>
<rastbpp Sync="TRUE">16</rastbpp>
<vrtcount Sync="TRUE">1</vrtcount>
<rastorig Sync="TRUE">Upper Left</rastorig>
<rastcmap Sync="TRUE">FALSE</rastcmap>
<rastcomp Sync="TRUE">LZ77</rastcomp>
<rastband Sync="TRUE">1</rastband>
<rastdtyp Sync="TRUE">pixel codes</rastdtyp>
<rastifor Sync="TRUE">SDR</rastifor>
<rastplyr Sync="TRUE">TRUE</rastplyr>
</rastinfo>
</spdoinfo>
<spref>
<horizsys>
<planar>
<planci>
<plance Sync="TRUE">row and column</plance>
<coordrep>
<absres Sync="TRUE">30.000000</absres>
<ordres Sync="TRUE">30.000000</ordres>
</coordrep>
</planci>
</planar>
</horizsys>
</spref>
</metadata>
