{
 "currentVersion": 11.3,
 "serviceDescription": "FBC/FlatheadCounty_SWClass",
 "name": "FBC/FlatheadCounty_SWClass",
 "description": "",
 "extent": {
  "xmin": 621113.6625233094,
  "ymin": 1240536.8156947354,
  "xmax": 1141577.34282417,
  "ymax": 1773875.29328195,
  "spatialReference": {
   "wkid": 102700,
   "latestWkid": 102700
  }
 },
 "initialExtent": {
  "xmin": 621113.6625233094,
  "ymin": 1240536.8156947354,
  "xmax": 1141577.34282417,
  "ymax": 1773875.29328195,
  "spatialReference": {
   "wkid": 102700,
   "latestWkid": 102700
  }
 },
 "fullExtent": {
  "xmin": 621113.6625233094,
  "ymin": 1240536.8156947354,
  "xmax": 1141577.34282417,
  "ymax": 1773875.29328195,
  "spatialReference": {
   "wkid": 102700,
   "latestWkid": 102700
  }
 },
 "sortableFields": "",
 "bandCount": 1,
 "pixelType": "U8",
 "minValues": [
  1
 ],
 "maxValues": [
  3
 ],
 "meanValues": [
  1.1787364775031348
 ],
 "stdvValues": [
  0.455804412882611
 ],
 "hasMultidimensions": false,
 "pixelSizeX": 29.260902923531823,
 "pixelSizeY": 29.26090292353183,
 "meanPixelSize": 8.9187410485746,
 "datasetFormat": "SDR",
 "uncompressedSize": 324203649,
 "blockWidth": 128,
 "blockHeight": 128,
 "compressionType": "LZ77",
 "bandNames": [
  "Band_1"
 ],
 "allowCopy": true,
 "allowAnalysis": true,
 "itemAccess": false,
 "inspectionCapabilities": "",
 "minPixelSize": 0,
 "maxPixelSize": 0,
 "copyrightText": "",
 "serviceDataType": "esriImageServiceDataTypeGeneric",
 "serviceSourceType": "esriImageServiceSourceTypeDataset",
 "objectIdField": "",
 "fields": [],
 "capabilities": "Image,Metadata,Mensuration",
 "defaultMosaicMethod": "Center",
 "allowedMosaicMethods": "",
 "sortField": "",
 "sortValue": null,
 "sortAscending": true,
 "mosaicOperator": "First",
 "defaultCompressionQuality": 75,
 "defaultResamplingMethod": "Bilinear",
 "maxImageHeight": 4100,
 "maxImageWidth": 15000,
 "allowRasterFunction": true,
 "rasterFunctionInfos": [
  {
   "name": "None",
   "description": "",
   "help": ""
  }
 ],
 "rasterTypeInfos": [
  {
   "name": "Raster Dataset",
   "description": "Supports all ArcGIS Raster Datasets",
   "help": ""
  }
 ],
 "mensurationCapabilities": "Basic",
 "hasHistograms": true,
 "hasColormap": false,
 "hasRasterAttributeTable": true,
 "minScale": 0,
 "maxScale": 0,
 "exportTilesAllowed": false,
 "supportsStatistics": false,
 "supportsAdvancedQueries": false,
 "editFieldsInfo": null,
 "ownershipBasedAccessControlForRasters": null,
 "allowComputeTiePoints": false,
 "useStandardizedQueries": true,
 "advancedQueryCapabilities": {
  "useStandardizedQueries": true,
  "supportsStatistics": false,
  "supportsOrderBy": false,
  "supportsDistinct": false,
  "supportsPagination": false
 },
 "spatialReference": {
  "wkid": 102700,
  "latestWkid": 102700
 }
}
