{
 "currentVersion": 11.3,
 "serviceDescription": "FBC/FlatheadCounty_ExistingSepticRiskClass",
 "name": "FBC/FlatheadCounty_ExistingSepticRiskClass",
 "description": "",
 "extent": {
  "xmin": 621113.6625233094,
  "ymin": 1240860.0598601867,
  "xmax": 1141586.2890056313,
  "ymax": 1773885.8294673143,
  "spatialReference": {
   "wkid": 102700,
   "latestWkid": 102700
  }
 },
 "initialExtent": {
  "xmin": 621113.6625233094,
  "ymin": 1240860.0598601867,
  "xmax": 1141586.2890056313,
  "ymax": 1773885.8294673143,
  "spatialReference": {
   "wkid": 102700,
   "latestWkid": 102700
  }
 },
 "fullExtent": {
  "xmin": 621113.6625233094,
  "ymin": 1240860.0598601867,
  "xmax": 1141586.2890056313,
  "ymax": 1773885.8294673143,
  "spatialReference": {
   "wkid": 102700,
   "latestWkid": 102700
  }
 },
 "sortableFields": "",
 "bandCount": 1,
 "pixelType": "S8",
 "minValues": [
  0
 ],
 "maxValues": [
  4
 ],
 "meanValues": [
  1.2825294355714396
 ],
 "stdvValues": [
  1.0841208204882398
 ],
 "hasMultidimensions": false,
 "pixelSizeX": 29.261405885327598,
 "pixelSizeY": 29.261405885327605,
 "meanPixelSize": 8.918894351636558,
 "datasetFormat": "SDR",
 "uncompressedSize": 324007992,
 "blockWidth": 128,
 "blockHeight": 128,
 "compressionType": "LZ77",
 "bandNames": [
  "Band_1"
 ],
 "allowCopy": true,
 "allowAnalysis": true,
 "itemAccess": false,
 "inspectionCapabilities": "",
 "minPixelSize": 0,
 "maxPixelSize": 0,
 "copyrightText": "",
 "serviceDataType": "esriImageServiceDataTypeGeneric",
 "serviceSourceType": "esriImageServiceSourceTypeDataset",
 "objectIdField": "",
 "fields": [],
 "capabilities": "Image,Metadata,Mensuration",
 "defaultMosaicMethod": "Center",
 "allowedMosaicMethods": "",
 "sortField": "",
 "sortValue": null,
 "sortAscending": true,
 "mosaicOperator": "First",
 "defaultCompressionQuality": 75,
 "defaultResamplingMethod": "Bilinear",
 "maxImageHeight": 4100,
 "maxImageWidth": 15000,
 "allowRasterFunction": true,
 "rasterFunctionInfos": [
  {
   "name": "None",
   "description": "",
   "help": ""
  }
 ],
 "rasterTypeInfos": [
  {
   "name": "Raster Dataset",
   "description": "Supports all ArcGIS Raster Datasets",
   "help": ""
  }
 ],
 "mensurationCapabilities": "Basic",
 "hasHistograms": true,
 "hasColormap": false,
 "hasRasterAttributeTable": true,
 "minScale": 0,
 "maxScale": 0,
 "exportTilesAllowed": false,
 "supportsStatistics": false,
 "supportsAdvancedQueries": false,
 "editFieldsInfo": null,
 "ownershipBasedAccessControlForRasters": null,
 "allowComputeTiePoints": false,
 "useStandardizedQueries": true,
 "advancedQueryCapabilities": {
  "useStandardizedQueries": true,
  "supportsStatistics": false,
  "supportsOrderBy": false,
  "supportsDistinct": false,
  "supportsPagination": false
 },
 "spatialReference": {
  "wkid": 102700,
  "latestWkid": 102700
 }
}
